BEGIN:VCALENDAR
VERSION:2.0
PRODID:-//A-Ga-Ming Golf Resort - Kewadin, MI - ECPv6.15.20//NONSGML v1.0//EN
CALSCALE:GREGORIAN
METHOD:PUBLISH
X-WR-CALNAME:A-Ga-Ming Golf Resort - Kewadin, MI
X-ORIGINAL-URL:https://a-ga-ming.com
X-WR-CALDESC:Events for A-Ga-Ming Golf Resort - Kewadin, MI
REFRESH-INTERVAL;VALUE=DURATION:PT1H
X-Robots-Tag:noindex
X-PUBLISHED-TTL:PT1H
BEGIN:VTIMEZONE
TZID:UTC
BEGIN:STANDARD
TZOFFSETFROM:+0000
TZOFFSETTO:+0000
TZNAME:UTC
DTSTART:20230101T000000
END:STANDARD
END:VTIMEZONE
BEGIN:VEVENT
DTSTART;TZID=UTC:20251222T000000
DTEND;TZID=UTC:20251228T235959
DTSTAMP:20260421T092530
CREATED:20251222T143151Z
LAST-MODIFIED:20251222T143154Z
UID:10000015-1766361600-1766966399@a-ga-ming.com
SUMMARY:Sundance Brick Oven Holiday Hours
DESCRIPTION:The Sundance Brick Oven will be closed from Monday\, December 22nd through Sunday\, December 28th for the holidays. Thank you for your understanding! Regular business hours will resume starting Monday\, December 29th.
URL:https://a-ga-ming.com/event/sundance-brick-oven-holiday-hours/
CATEGORIES:Holidays
END:VEVENT
BEGIN:VEVENT
DTSTART;TZID=UTC:20250317T000000
DTEND;TZID=UTC:20250317T235959
DTSTAMP:20260421T092530
CREATED:20231121T222235Z
LAST-MODIFIED:20240517T124501Z
UID:10000006-1742169600-1742255999@a-ga-ming.com
SUMMARY:Saint Patrick's Day
DESCRIPTION:
URL:https://a-ga-ming.com/event/saint-patricks-day/
CATEGORIES:Holidays
END:VEVENT
BEGIN:VEVENT
DTSTART;TZID=UTC:20250101T000000
DTEND;TZID=UTC:20250101T235959
DTSTAMP:20260421T092530
CREATED:20231005T175327Z
LAST-MODIFIED:20240517T124523Z
UID:10000003-1735689600-1735775999@a-ga-ming.com
SUMMARY:New Year's Eve
DESCRIPTION:
URL:https://a-ga-ming.com/event/new-years-eve/
CATEGORIES:Holidays
END:VEVENT
BEGIN:VEVENT
DTSTART;TZID=UTC:20241225T000000
DTEND;TZID=UTC:20241225T235959
DTSTAMP:20260421T092530
CREATED:20231121T222203Z
LAST-MODIFIED:20240517T124549Z
UID:10000005-1735084800-1735171199@a-ga-ming.com
SUMMARY:Christmas
DESCRIPTION:
URL:https://a-ga-ming.com/event/christmas/
CATEGORIES:Holidays
END:VEVENT
END:VCALENDAR